BEGIN:VCALENDAR
VERSION:2.0
PRODID:-//ChamberMaster//Event Calendar 2.0//EN
METHOD:PUBLISH
X-PUBLISHED-TTL:P3D
REFRESH-INTERVAL:P3D
CALSCALE:GREGORIAN
BEGIN:VEVENT
DTSTART:20241111T160000Z
DTEND:20241111T200000Z
X-MICROSOFT-CDO-ALLDAYEVENT:FALSE
SUMMARY:American Legion Post 113 Veterans Day Service
DESCRIPTION:Come down to the American Legion Post 113\, and have lunch in support of our Veterans! 3436 Indiana Road\, Rotunda West\, FL 33947. Guest speaker will be Mr. Don Penrod\, and lunch to follow! Veterans are no charge\, all others by donations.
X-ALT-DESC;FMTTYPE=text/html:Come down to the American Legion Post 113\, and have lunch in support of our Veterans! 3436 Indiana Road\, Rotunda West\, FL 33947. Guest speaker will be Mr. Don Penrod\, and lunch to follow! Veterans are no charge\, all others by donations.&nbsp\;
LOCATION:
UID:e.3392.1225
SEQUENCE:3
DTSTAMP:20260424T053152Z
URL:http://business.englewoodchamber.com/events/details/american-legion-post-113-veterans-day-service-1225
END:VEVENT

END:VCALENDAR
