BEGIN:VCALENDAR
VERSION:2.0
PRODID:-//ChamberMaster//Event Calendar 2.0//EN
METHOD:PUBLISH
X-PUBLISHED-TTL:P3D
REFRESH-INTERVAL:P3D
CALSCALE:GREGORIAN
BEGIN:VEVENT
DTSTART:20230131T223000Z
DTEND:20230201T010000Z
X-MICROSOFT-CDO-ALLDAYEVENT:FALSE
SUMMARY:Annual Awards Banquet 2023
DESCRIPTION:Join as we celebrate success at our Annual Awards Banquet at The Hills Country Club in Rotonda West. We will be announcing our Excellence in Business Winners and installing our 2023 Board of Directors.\n\n\n\nEach registration includes dinner\, 1 drink ticket\, networking and entertainment.
X-ALT-DESC;FMTTYPE=text/html:<h3><span style="font-size:14px\;"><span style="font-family:tahoma\;">Join as we celebrate success at our Annual Awards Banquet at The Hills Country Club in Rotonda West. We will be announcing our Excellence in Business Winners and installing our 2023&nbsp\;Board of Directors.</span></span><br />\n<br />\n<span style="font-size:14px\;"><span style="font-family:tahoma\;">Each registration&nbsp\;includes dinner\, 1&nbsp\;drink ticket\, networking and entertainment.&nbsp\;&nbsp\;</span></span><br />\n<br />\n&nbsp\;</h3>\n
LOCATION:
UID:e.3392.1024
SEQUENCE:3
DTSTAMP:20260426T014019Z
URL:http://business.englewoodchamber.com/events/details/annual-awards-banquet-2023-1024
END:VEVENT

END:VCALENDAR
