BEGIN:VCALENDAR
VERSION:2.0
PRODID:-//ChamberMaster//Event Calendar 2.0//EN
METHOD:PUBLISH
X-PUBLISHED-TTL:P3D
REFRESH-INTERVAL:P3D
CALSCALE:GREGORIAN
BEGIN:VEVENT
DTSTART:20220420T160000Z
DTEND:20220420T170000Z
X-MICROSOFT-CDO-ALLDAYEVENT:FALSE
SUMMARY:April 2022 Biz at Noon
DESCRIPTION:This month's Biz@Noon is at Ken & Barbs Grover City Kitchen\n\nJoin the Chamber for a networking lunch to promote your business.\n\nAlso...we will honor our Chamber volunteers at lunch in observance of Volunteer Appreciation month!\n\nCome Enjoy a delicious lunch and mix & mingle with members.\n\nMENU CHOICES:\n\n\nTURKEY CLUB  \n\n Real roasted turkey\, lettuce\, tomato and bacon. With cranberry mayo on whole  wheat toast. Choice of house made chips or potato salad.  \n\nPASTRAMI REUBEN  \n\nPastrami\, Swiss and sauerkraut. Served on rye with Russian dressing. Choice of  house made chips or potato salad.  \n\nFISH SANDWICH  \n\nDeep fried Atlantic cod. On a burger roll with lemon\, tartar and coleslaw. Choice  of house made chips or potato salad.  \n\nROASTED VEGGIE AND FRESH MOZZ SALAD  (Can be made Vegan)\n\nRoasted eggplant and zucchini\, marinated cherry tomatoes\, fresh mozz slices\,  olive oil and balsamic glaze.
X-ALT-DESC;FMTTYPE=text/html:<p style="margin: 0px 0px 10px\; padding: 0px\; color: rgb(0\, 0\, 0)\; font-family: &quot\;Istok Web&quot\;\, sans-serif\; font-size: 14px\; font-style: normal\; font-variant-ligatures: normal\; font-variant-caps: normal\; font-weight: 400\; letter-spacing: normal\; orphans: 2\; text-align: start\; text-indent: 0px\; text-transform: none\; white-space: normal\; widows: 2\; word-spacing: 0px\; -webkit-text-stroke-width: 0px\; background-color: rgb(255\, 255\, 255)\; text-decoration-style: initial\; text-decoration-color: initial\;">This month&#39\;s Biz@Noon is at Ken &amp\; Barbs Grover City Kitchen<br />\nJoin the Chamber for a networking&nbsp\;lunch to promote your business.<br />\nAlso...we will honor our Chamber volunteers at lunch in observance of Volunteer Appreciation month!<br />\nCome&nbsp\;Enjoy a delicious lunch and mix &amp\; mingle with members.<br />\nMENU CHOICES:</p>\n\n<div style="color: rgb(34\, 34\, 34)\; font-family: Arial\, Helvetica\, sans-serif\; font-size: small\; background-color: rgb(255\, 255\, 255)\;">\n<p dir="ltr" style="line-height:1.2\;margin-left: 0.33600616455078125pt\;margin-top:12.77001953125pt\;margin-bottom:0pt\;"><span id="docs-internal-guid-e7842bb6-7fff-5ea1-1fd8-420def6a4f24"><span style="font-size: 12pt\; font-family: Arial\; font-weight: 700\; font-variant-numeric: normal\; font-variant-east-asian: normal\; vertical-align: baseline\; white-space: pre-wrap\;">TURKEY CLUB&nbsp\;&nbsp\;</span></span></p>\n\n<p dir="ltr" style="line-height:1.2\;margin-right: 0.5401611328125pt\;text-indent: 0.12000274658203125pt\;margin-top:0.33197021484375pt\;margin-bottom:0pt\;"><span id="docs-internal-guid-e7842bb6-7fff-5ea1-1fd8-420def6a4f24"><span style="font-size: 12pt\; font-family: Arial\; font-weight: 700\; font-variant-numeric: normal\; font-variant-east-asian: normal\; vertical-align: baseline\; white-space: pre-wrap\;">&nbsp\;</span><span style="font-size: 12pt\; font-family: Arial\; font-variant-numeric: normal\; font-variant-east-asian: normal\; vertical-align: baseline\; white-space: pre-wrap\;">Real roasted turkey\, lettuce\, tomato and bacon. With cranberry mayo on whole&nbsp\; wheat toast. Choice of house made chips or potato salad.&nbsp\;&nbsp\;</span></span></p>\n\n<p dir="ltr" style="line-height:1.2\;margin-left: 0.33600616455078125pt\;margin-top:13.99798583984375pt\;margin-bottom:0pt\;"><span id="docs-internal-guid-e7842bb6-7fff-5ea1-1fd8-420def6a4f24"><span style="font-size: 12pt\; font-family: Arial\; font-weight: 700\; font-variant-numeric: normal\; font-variant-east-asian: normal\; vertical-align: baseline\; white-space: pre-wrap\;">PASTRAMI REUBEN&nbsp\;&nbsp\;</span></span></p>\n\n<p dir="ltr" style="line-height:1.2\;margin-left: 0.22800445556640625pt\;text-indent: 0.108001708984375pt\;margin-top:0.33197021484375pt\;margin-bottom:0pt\;"><span id="docs-internal-guid-e7842bb6-7fff-5ea1-1fd8-420def6a4f24"><span style="font-size: 12pt\; font-family: Arial\; font-variant-numeric: normal\; font-variant-east-asian: normal\; vertical-align: baseline\; white-space: pre-wrap\;">Pastrami\, Swiss and sauerkraut. Served on rye with Russian dressing. Choice of&nbsp\; house made chips or potato salad.&nbsp\;&nbsp\;</span></span></p>\n\n<p dir="ltr" style="line-height:1.2\;margin-left: 0.33600616455078125pt\;margin-top:13.99798583984375pt\;margin-bottom:0pt\;"><span id="docs-internal-guid-e7842bb6-7fff-5ea1-1fd8-420def6a4f24"><span style="font-size: 12pt\; font-family: Arial\; font-weight: 700\; font-variant-numeric: normal\; font-variant-east-asian: normal\; vertical-align: baseline\; white-space: pre-wrap\;">FISH SANDWICH&nbsp\;&nbsp\;</span></span></p>\n\n<p dir="ltr" style="line-height:1.2\;margin-left: 0.34799957275390625pt\;margin-right: 2.9041748046875pt\;text-indent: -0.22800445556640625pt\;margin-top:0.33197021484375pt\;margin-bottom:0pt\;padding:0pt 0pt 0pt 0.22800445556640625pt\;"><span id="docs-internal-guid-e7842bb6-7fff-5ea1-1fd8-420def6a4f24"><span style="font-size: 12pt\; font-family: Arial\; font-variant-numeric: normal\; font-variant-east-asian: normal\; vertical-align: baseline\; white-space: pre-wrap\;">Deep fried Atlantic cod. On a burger roll with lemon\, tartar and coleslaw. Choice&nbsp\; of house made chips or potato salad.&nbsp\;&nbsp\;</span></span></p>\n\n<p dir="ltr" style="line-height:1.2\;margin-left: 0.33600616455078125pt\;margin-top:13.99798583984375pt\;margin-bottom:0pt\;"><span id="docs-internal-guid-e7842bb6-7fff-5ea1-1fd8-420def6a4f24"><span style="font-size: 12pt\; font-family: Arial\; font-weight: 700\; font-variant-numeric: normal\; font-variant-east-asian: normal\; vertical-align: baseline\; white-space: pre-wrap\;">ROASTED VEGGIE AND FRESH MOZZ SALAD&nbsp\;&nbsp\;(Can be made Vegan)</span></span></p>\n\n<p dir="ltr" style="line-height:1.2\;margin-left: 0.34799957275390625pt\;margin-right: 10.35614013671875pt\;text-indent: -0.22800445556640625pt\;margin-top:0.332000732421875pt\;margin-bottom:0pt\;padding:0pt 0pt 0pt 0.22800445556640625pt\;"><span id="docs-internal-guid-e7842bb6-7fff-5ea1-1fd8-420def6a4f24"><span style="font-size: 12pt\; font-family: Arial\; font-variant-numeric: normal\; font-variant-east-asian: normal\; vertical-align: baseline\; white-space: pre-wrap\;">Roasted eggplant and zucchini\, marinated cherry tomatoes\, fresh mozz slices\,&nbsp\; olive oil and balsamic glaze.&nbsp\;&nbsp\;</span></span></p>\n\n<div>&nbsp\;</div>\n</div>\n
LOCATION:Ken & Barb's 2000 Oyster Creek Drive Englewood\, FL 34224
UID:e.3392.1002
SEQUENCE:3
DTSTAMP:20260424T151816Z
URL:http://business.englewoodchamber.com/events/details/april-2022-biz-at-noon-1002
END:VEVENT

END:VCALENDAR
