BEGIN:VCALENDAR
VERSION:2.0
PRODID:-//ChamberMaster//Event Calendar 2.0//EN
METHOD:PUBLISH
X-PUBLISHED-TTL:P3D
REFRESH-INTERVAL:P3D
CALSCALE:GREGORIAN
BEGIN:VEVENT
DTSTART:20240117T170000Z
DTEND:20240117T180000Z
X-MICROSOFT-CDO-ALLDAYEVENT:FALSE
SUMMARY:Biz at Noon January 2024
DESCRIPTION:This month's Biz@Noon is at Landy's Restaurant \n\nJoin the Chamber for a networking lunch to promote your business.\n\n\n\nCome Enjoy a delicious lunch and mix & mingle with members.\n\n\n\nMENU CHOICES:Seafood Deviled Cobb Salad\n\nDeviled egg\, avocado\, tomato\, blue cheese crumbles\, Applewood bacon\,  fresh spring mix & balsamic dressing\n\n\n\nSteak Quesadilla & fries\n\nShaved Black Angus ribeye\, blue cheese\, provolone\, caramelized onion\, mushroom\, balsamic glaze\n\n\n\nCracked Coconut Chicken Sandwich & fresh fruit\n\nCoconut breaded all natural chicken breast\, deep fried & topped with our tangy sauce\, lettuce & tomato\n\n\n\nGulf Cioppino\n\nDomestic snapper\, mussels\, clams & shrimp in a fresh tomato stew\, topped with Parmesan Reggiano & fresh bread
X-ALT-DESC;FMTTYPE=text/html:<p style="margin: 0px 0px 10px\; padding: 0px\; color: rgb(0\, 0\, 0)\; font-family: &quot\;Istok Web&quot\;\, sans-serif\; font-size: 14px\; font-style: normal\; font-variant-ligatures: normal\; font-variant-caps: normal\; font-weight: 400\; letter-spacing: normal\; orphans: 2\; text-align: start\; text-indent: 0px\; text-transform: none\; white-space: normal\; widows: 2\; word-spacing: 0px\; -webkit-text-stroke-width: 0px\; background-color: rgb(255\, 255\, 255)\; text-decoration-style: initial\; text-decoration-color: initial\;">This month&#39\;s Biz@Noon is at Landy&#39\;s Restaurant&nbsp\;<br />\nJoin the Chamber for a networking&nbsp\;lunch to promote your business.<br />\n<br />\nCome&nbsp\;Enjoy a delicious lunch and mix &amp\; mingle with members.<br />\n<br />\nMENU CHOICES:<span style="color: rgb(34\, 34\, 34)\; font-family: Arial\, Helvetica\, sans-serif\; font-size: small\; background-color: rgb(255\, 255\, 255)\;">Seafood Deviled Cobb Salad</span><br style="color: rgb(34\, 34\, 34)\; font-family: Arial\, Helvetica\, sans-serif\; font-size: small\; background-color: rgb(255\, 255\, 255)\;" />\n<span style="color: rgb(34\, 34\, 34)\; font-family: Arial\, Helvetica\, sans-serif\; font-size: small\; background-color: rgb(255\, 255\, 255)\;">Deviled egg\, avocado\, tomato\, blue cheese crumbles\, Applewood bacon\,&nbsp\; fresh spring mix &amp\; balsamic dressing</span><br style="color: rgb(34\, 34\, 34)\; font-family: Arial\, Helvetica\, sans-serif\; font-size: small\; background-color: rgb(255\, 255\, 255)\;" />\n<br style="color: rgb(34\, 34\, 34)\; font-family: Arial\, Helvetica\, sans-serif\; font-size: small\; background-color: rgb(255\, 255\, 255)\;" />\n<span style="color: rgb(34\, 34\, 34)\; font-family: Arial\, Helvetica\, sans-serif\; font-size: small\; background-color: rgb(255\, 255\, 255)\;">Steak Quesadilla &amp\; fries</span><br style="color: rgb(34\, 34\, 34)\; font-family: Arial\, Helvetica\, sans-serif\; font-size: small\; background-color: rgb(255\, 255\, 255)\;" />\n<span style="color: rgb(34\, 34\, 34)\; font-family: Arial\, Helvetica\, sans-serif\; font-size: small\; background-color: rgb(255\, 255\, 255)\;">Shaved Black Angus ribeye\, blue cheese\, provolone\, caramelized onion\, mushroom\, balsamic glaze</span><br style="color: rgb(34\, 34\, 34)\; font-family: Arial\, Helvetica\, sans-serif\; font-size: small\; background-color: rgb(255\, 255\, 255)\;" />\n<br style="color: rgb(34\, 34\, 34)\; font-family: Arial\, Helvetica\, sans-serif\; font-size: small\; background-color: rgb(255\, 255\, 255)\;" />\n<span style="color: rgb(34\, 34\, 34)\; font-family: Arial\, Helvetica\, sans-serif\; font-size: small\; background-color: rgb(255\, 255\, 255)\;">Cracked Coconut Chicken Sandwich &amp\; fresh fruit</span><br style="color: rgb(34\, 34\, 34)\; font-family: Arial\, Helvetica\, sans-serif\; font-size: small\; background-color: rgb(255\, 255\, 255)\;" />\n<span style="color: rgb(34\, 34\, 34)\; font-family: Arial\, Helvetica\, sans-serif\; font-size: small\; background-color: rgb(255\, 255\, 255)\;">Coconut breaded all natural chicken breast\, deep fried &amp\; topped with our tangy sauce\, lettuce &amp\; tomato</span><br style="color: rgb(34\, 34\, 34)\; font-family: Arial\, Helvetica\, sans-serif\; font-size: small\; background-color: rgb(255\, 255\, 255)\;" />\n<br style="color: rgb(34\, 34\, 34)\; font-family: Arial\, Helvetica\, sans-serif\; font-size: small\; background-color: rgb(255\, 255\, 255)\;" />\n<span style="color: rgb(34\, 34\, 34)\; font-family: Arial\, Helvetica\, sans-serif\; font-size: small\; background-color: rgb(255\, 255\, 255)\;">Gulf Cioppino</span><br style="color: rgb(34\, 34\, 34)\; font-family: Arial\, Helvetica\, sans-serif\; font-size: small\; background-color: rgb(255\, 255\, 255)\;" />\n<span style="color: rgb(34\, 34\, 34)\; font-family: Arial\, Helvetica\, sans-serif\; font-size: small\; background-color: rgb(255\, 255\, 255)\;">Domestic snapper\, mussels\, clams &amp\; shrimp in a fresh tomato stew\, topped with Parmesan Reggiano &amp\; fresh bread</span></p>\n\n<div style="color: rgb(34\, 34\, 34)\; font-family: Arial\, Helvetica\, sans-serif\; font-size: small\; background-color: rgb(255\, 255\, 255)\;">\n<p dir="ltr" style="line-height:1.2\;margin-left: 0.33600616455078125pt\;margin-top:12.77001953125pt\;margin-bottom:0pt\;"><!-- wp:paragraph --></p>\n\n<p dir="ltr" style="line-height:1.2\;margin-left: 0.33600616455078125pt\;margin-top:12.77001953125pt\;margin-bottom:0pt\;"><!-- /wp:paragraph --></p>\n</div>\n
LOCATION:Landy's Restaurant 1400 Aqua View Lane-Englewood Englewood\, FL 34224
UID:e.3392.1067
SEQUENCE:3
DTSTAMP:20260425T030257Z
URL:http://business.englewoodchamber.com/events/details/biz-at-noon-january-2024-1067
END:VEVENT

END:VCALENDAR
