BEGIN:VCALENDAR
VERSION:2.0
PRODID:-//ChamberMaster//Event Calendar 2.0//EN
METHOD:PUBLISH
X-PUBLISHED-TTL:P3D
REFRESH-INTERVAL:P3D
CALSCALE:GREGORIAN
BEGIN:VEVENT
DTSTART:20250521T160000Z
DTEND:20250521T170000Z
X-MICROSOFT-CDO-ALLDAYEVENT:FALSE
SUMMARY:Biz at Noon May 2025
DESCRIPTION:This month's Biz@Noon is at The Waverly\n\nJoin the Chamber for a networking lunch to promote your business.\n\n\n\n1. Chicken Caesar Wrap with Chips\n\n2. French Dip\n\n\n\n3. Grilled Fish Sandwich\n\n4. Beet Salad
X-ALT-DESC;FMTTYPE=text/html:<p style="margin: 0px 0px 10px\; padding: 0px\; color: rgb(0\, 0\, 0)\; font-family: &quot\;Istok Web&quot\;\, sans-serif\; font-size: 14px\; font-style: normal\; font-variant-ligatures: normal\; font-variant-caps: normal\; font-weight: 400\; letter-spacing: normal\; orphans: 2\; text-align: start\; text-indent: 0px\; text-transform: none\; white-space: normal\; widows: 2\; word-spacing: 0px\; -webkit-text-stroke-width: 0px\; background-color: rgb(255\, 255\, 255)\; text-decoration-style: initial\; text-decoration-color: initial\;">This month&#39\;s Biz@Noon is at The Waverly<br />\nJoin the Chamber for a networking&nbsp\;lunch to promote your business.<br />\n<br />\n1. Chicken Caesar Wrap with Chips<br />\n2. French Dip</p>\n\n<div style="color: rgb(34\, 34\, 34)\; font-family: Arial\, Helvetica\, sans-serif\; font-size: small\; background-color: rgb(255\, 255\, 255)\;">\n<div>\n<div style="color: rgb(34\, 34\, 34)\; font-family: Arial\, Helvetica\, sans-serif\; font-size: small\; background-color: rgb(255\, 255\, 255)\;">3. Grilled Fish Sandwich<br />\n4. Beet Salad</div>\n</div>\n\n<div style="color: rgb(34\, 34\, 34)\; font-family: Arial\, Helvetica\, sans-serif\; font-size: small\; background-color: rgb(255\, 255\, 255)\;">&nbsp\;</div>\n\n<div style="color: rgb(34\, 34\, 34)\; font-family: Arial\, Helvetica\, sans-serif\; font-size: small\; background-color: rgb(255\, 255\, 255)\;">&nbsp\;</div>\n\n<p><br style="color: rgb(34\, 34\, 34)\; font-family: Verdana\, Geneva\, sans-serif\; font-size: 13.3333px\; background-color: rgb(255\, 255\, 255)\;" />\n<br style="color: rgb(34\, 34\, 34)\; font-family: Verdana\, Geneva\, sans-serif\; font-size: 13.3333px\; background-color: rgb(255\, 255\, 255)\;" />\n<br style="color: rgb(34\, 34\, 34)\; font-family: Verdana\, Geneva\, sans-serif\; font-size: 13.3333px\; background-color: rgb(255\, 255\, 255)\;" />\n&nbsp\;</p>\n\n<p dir="ltr" style="line-height:1.2\;margin-left: 0.33600616455078125pt\;margin-top:12.77001953125pt\;margin-bottom:0pt\;"><!-- /wp:paragraph --></p>\n</div>\n
LOCATION:The Waverly 2095 N. Beach Road Englewood\, FL 34223
UID:e.3392.8201
SEQUENCE:3
DTSTAMP:20260424T042511Z
URL:http://business.englewoodchamber.com/events/details/biz-at-noon-may-2025-8201
END:VEVENT

END:VCALENDAR
