BEGIN:VCALENDAR
VERSION:2.0
PRODID:-//ChamberMaster//Event Calendar 2.0//EN
METHOD:PUBLISH
X-PUBLISHED-TTL:P3D
REFRESH-INTERVAL:P3D
CALSCALE:GREGORIAN
BEGIN:VEVENT
DTSTART:20230920T160000Z
DTEND:20230920T170000Z
X-MICROSOFT-CDO-ALLDAYEVENT:FALSE
SUMMARY:Biz at Noon September 2023
DESCRIPTION:This month's Biz@Noon is at Landy's Restaurant\n\nJoin the Chamber for a networking lunch to promote your business.\n\nThis month is also our Presidents Lunch\, which means Chamber President Shane Whitmore will meet prior to lunch with past presidents to give a state of the chamber report to them. \n\nCome Enjoy a delicious lunch and mix & mingle with members.\n\n\n\nMENU CHOICES:\n\n \n\n\n\n\n\n\n\n	Moules Frites   (gluten free)\n\nGarlic wine butter sauteed mussels with parmesan French fries\n\n \n\n	Jammin' chicken salad croissant & fresh fruit\n\nHome made chicken salad with Applewood bacon crumbles & our house fresh sweet onion jam in a butter croissant\n\n \n\n	Half Prime Rib French Dip with New England Clam Chowder\n\nSlow roasted Certified Angus Beef prime rib\, thin shaved with melted provolone on a hoagie. Served with Au Jus and a cup of our fresh New England Clam chowder\n\n \n\n	Blackened Shrimp Florida salad\n\nRipe avocado\, fresh pineapple salsa\, sliced strawberries\, toasted coconut & our house mango vinaigrette on a crisp spring mix\n\n \n\nVegan option: Coconut Cay Vegan Rice Bowl: fresh saut ed vegetables with our signature sweet n' spicy coconut sauce\, fresh pineapple & coconut rice
X-ALT-DESC;FMTTYPE=text/html:<p style="margin: 0px 0px 10px\; padding: 0px\; color: rgb(0\, 0\, 0)\; font-family: &quot\;Istok Web&quot\;\, sans-serif\; font-size: 14px\; font-style: normal\; font-variant-ligatures: normal\; font-variant-caps: normal\; font-weight: 400\; letter-spacing: normal\; orphans: 2\; text-align: start\; text-indent: 0px\; text-transform: none\; white-space: normal\; widows: 2\; word-spacing: 0px\; -webkit-text-stroke-width: 0px\; background-color: rgb(255\, 255\, 255)\; text-decoration-style: initial\; text-decoration-color: initial\;">This month&#39\;s Biz@Noon is at Landy&#39\;s Restaurant<br />\nJoin the Chamber for a networking&nbsp\;lunch to promote your business.<br />\nThis month is also our Presidents Lunch\, which means Chamber President Shane Whitmore will meet prior to lunch with past presidents to give a state of the chamber report to them.&nbsp\;<br />\nCome&nbsp\;Enjoy a delicious lunch and mix &amp\; mingle with members.<br />\n<br />\nMENU CHOICES:<br />\n&nbsp\;</p>\n\n<div style="color: rgb(34\, 34\, 34)\; font-family: Arial\, Helvetica\, sans-serif\; font-size: small\; background-color: rgb(255\, 255\, 255)\;">\n<p dir="ltr" style="line-height:1.2\;margin-left: 0.33600616455078125pt\;margin-top:12.77001953125pt\;margin-bottom:0pt\;"><!-- wp:paragraph --></p>\n\n<div>\n<div style="color: rgb(34\, 34\, 34)\; font-family: Arial\, Helvetica\, sans-serif\; font-size: small\; background-color: rgb(255\, 255\, 255)\;">\n<ul>\n	<li style="margin-left:0in\;"><strong>Moules Frites &ndash\; (gluten free)</strong></li>\n</ul>\nGarlic wine butter sauteed mussels with parmesan French fries<br />\n&nbsp\;\n<ul>\n	<li style="margin-left:0in\;"><strong>Jammin&rsquo\; chicken salad croissant &amp\; fresh fruit</strong></li>\n</ul>\nHome made chicken salad with Applewood bacon crumbles &amp\; our house fresh sweet onion jam in a butter croissant<br />\n&nbsp\;\n<ul>\n	<li style="margin-left:0in\;"><strong>Half Prime Rib French Dip with New England Clam Chowder</strong></li>\n</ul>\nSlow roasted Certified Angus Beef prime rib\, thin shaved with melted provolone on a hoagie. Served with Au Jus and a cup of our fresh New England Clam chowder<br />\n&nbsp\;\n<ul>\n	<li style="margin-left:0in\;"><strong>Blackened Shrimp Florida salad</strong></li>\n</ul>\nRipe avocado\, fresh pineapple salsa\, sliced strawberries\, toasted coconut &amp\; our house mango vinaigrette on a crisp spring mix<br />\n&nbsp\;<br />\n<strong><u>Vegan option:</u></strong>&nbsp\;C<strong>oconut Cay Vegan Rice Bowl</strong>: fresh saut&eacute\;ed vegetables with our signature sweet n&rsquo\; spicy coconut sauce\, fresh pineapple &amp\; coconut rice<br />\n&nbsp\;</div>\n</div>\n\n<div style="color: rgb(34\, 34\, 34)\; font-family: Arial\, Helvetica\, sans-serif\; font-size: small\; background-color: rgb(255\, 255\, 255)\;">&nbsp\;</div>\n\n<p><br style="color: rgb(34\, 34\, 34)\; font-family: Verdana\, Geneva\, sans-serif\; font-size: 13.3333px\; background-color: rgb(255\, 255\, 255)\;" />\n<br style="color: rgb(34\, 34\, 34)\; font-family: Verdana\, Geneva\, sans-serif\; font-size: 13.3333px\; background-color: rgb(255\, 255\, 255)\;" />\n<br style="color: rgb(34\, 34\, 34)\; font-family: Verdana\, Geneva\, sans-serif\; font-size: 13.3333px\; background-color: rgb(255\, 255\, 255)\;" />\n&nbsp\;</p>\n\n<p dir="ltr" style="line-height:1.2\;margin-left: 0.33600616455078125pt\;margin-top:12.77001953125pt\;margin-bottom:0pt\;"><!-- /wp:paragraph --></p>\n</div>\n
LOCATION:Landy's Restaurant 1400 Aqua View Lane Englewood\, FL 34223
UID:e.3392.1052
SEQUENCE:3
DTSTAMP:20260425T120102Z
URL:http://business.englewoodchamber.com/events/details/biz-at-noon-september-2023-1052
END:VEVENT

END:VCALENDAR
