BEGIN:VCALENDAR
VERSION:2.0
PRODID:-//ChamberMaster//Event Calendar 2.0//EN
METHOD:PUBLISH
X-PUBLISHED-TTL:P3D
REFRESH-INTERVAL:P3D
CALSCALE:GREGORIAN
BEGIN:VEVENT
DTSTART:20250716T160000Z
DTEND:20250716T170000Z
X-MICROSOFT-CDO-ALLDAYEVENT:FALSE
SUMMARY:Biz@Noon July 2025
DESCRIPTION:This month's Biz@Noon is at The End Zone \n\nJoin the Chamber for a networking lunch to promote your business.\n\n\n\nCome Enjoy a delicious lunch and mix & mingle with members.\n\nMENU CHOICES:\n\n\n\n\nTomato Basil Flat Bread Pizza\n\nPulled Pork Sandwich with Fried Pickles & Cole Slaw\n\n10 Piece "sticky" Chinese Chicken Wings\n\n3 Pepper Cheeseburger-Habanero Jam\, fried pickles\, jalapenos & ghost pepper cheese sauce
X-ALT-DESC;FMTTYPE=text/html:<p style="margin: 0px 0px 10px\; padding: 0px\; color: rgb(0\, 0\, 0)\; font-family: &quot\;Istok Web&quot\;\, sans-serif\; font-size: 14px\; font-style: normal\; font-variant-ligatures: normal\; font-variant-caps: normal\; font-weight: 400\; letter-spacing: normal\; orphans: 2\; text-align: start\; text-indent: 0px\; text-transform: none\; white-space: normal\; widows: 2\; word-spacing: 0px\; -webkit-text-stroke-width: 0px\; background-color: rgb(255\, 255\, 255)\; text-decoration-style: initial\; text-decoration-color: initial\;">This month&#39\;s Biz@Noon is at The End Zone&nbsp\;<br />\nJoin the Chamber for a networking&nbsp\;lunch to promote your business.<br />\n<br />\nCome&nbsp\;Enjoy a delicious lunch and mix &amp\; mingle with members.<br />\nMENU CHOICES:</p>\n\n<div style="color: rgb(34\, 34\, 34)\; font-family: Arial\, Helvetica\, sans-serif\; font-size: small\; background-color: rgb(255\, 255\, 255)\;">\n<p dir="ltr" style="line-height:1.2\;margin-left: 0.33600616455078125pt\;margin-top:12.77001953125pt\;margin-bottom:0pt\;"><!-- wp:paragraph --></p>\n\n<div>Tomato Basil Flat Bread Pizza<br />\nPulled Pork Sandwich with Fried Pickles &amp\; Cole Slaw<br />\n10 Piece &quot\;sticky&quot\; Chinese Chicken Wings<br />\n3 Pepper Cheeseburger-Habanero Jam\, fried pickles\, jalapenos &amp\; ghost pepper cheese sauce&nbsp\;</div>\n\n<p dir="ltr" style="line-height:1.2\;margin-left: 0.33600616455078125pt\;margin-top:12.77001953125pt\;margin-bottom:0pt\;"><!-- /wp:paragraph --></p>\n</div>\n
LOCATION:The End Zone 2440 S. McCall Road Englewood\, FL 34224
UID:e.3392.8206
SEQUENCE:3
DTSTAMP:20260424T092944Z
URL:http://business.englewoodchamber.com/events/details/biz-noon-july-2025-8206
END:VEVENT

END:VCALENDAR
