BEGIN:VCALENDAR
VERSION:2.0
PRODID:-//ChamberMaster//Event Calendar 2.0//EN
METHOD:PUBLISH
X-PUBLISHED-TTL:P3D
REFRESH-INTERVAL:P3D
CALSCALE:GREGORIAN
BEGIN:VEVENT
DTSTART;VALUE=DATE:20240212
DTEND;VALUE=DATE:20240402
TRANSP:TRANSPARENT
X-MICROSOFT-CDO-ALLDAYEVENT:TRUE
SUMMARY:Community Guide Sales 2024
DESCRIPTION:Get Noticed in the Englewood Community Magazine\n\nDon?t miss your opportunity to be showcased in the Englewood Community Magazine. We are currently selling ads in the magazine to members of the Englewood Florida Chamber of Commerce. All chamber members are listed in the directory within the magazine. If you are not a member of the Englewood Chamber\, there is still time to join and be included in this prestigious business marketing piece. This magazine is our local community guide. It is handed out at our welcome center\, airports\, businesses and vacation rentals. We also work with homeowners associations\, mortgage companies\, realtors and more to make sure the community guide gets into the hands of new residents. For more information on becoming a member or purchasing an ad\, please contact Doug Izzo at (941) 474-5511 or Doug.Izzo@EnglewoodChamber.com.
X-ALT-DESC;FMTTYPE=text/html:<strong><span style="font-family:tahoma\,sans-serif\;"><span style="font-size:11.0pt\;">Get Noticed in the Englewood Community Magazine</span></span></strong><br>\n<span style="font-family:tahoma\,sans-serif\;"><span style="font-size:11.0pt\;">Don?t miss your opportunity to be showcased in the Englewood Community Magazine. We are currently selling ads in the magazine to members of the Englewood Florida Chamber of Commerce. All chamber members are listed in the directory within the magazine. If you are not a member of the Englewood Chamber\, there is still time to join and be included in this prestigious business marketing piece. </span></span><span style="color:#1B1B1B\;"><span style="font-family:tahoma\,sans-serif\;"><span style="font-size:11.0pt\;">This magazine is our local community guide. It is handed out at our welcome center\, airports\, businesses and vacation rentals. We also work with homeowners associations\, mortgage companies\, realtors and more to make sure the community guide gets into the hands of new residents. For more information on becoming a member or purchasing an ad\, please contact Doug Izzo at (941) 474-5511 or Doug.Izzo@EnglewoodChamber.com.&nbsp\;</span></span></span>
LOCATION:
UID:e.3392.1070
SEQUENCE:3
DTSTAMP:20260424T231723Z
URL:http://business.englewoodchamber.com/events/details/community-guide-sales-2024-1070
END:VEVENT

END:VCALENDAR
