BEGIN:VCALENDAR
VERSION:2.0
PRODID:-//ChamberMaster//Event Calendar 2.0//EN
METHOD:PUBLISH
X-PUBLISHED-TTL:P3D
REFRESH-INTERVAL:P3D
CALSCALE:GREGORIAN
BEGIN:VEVENT
DTSTART:20241218T170000Z
DTEND:20241218T180000Z
X-MICROSOFT-CDO-ALLDAYEVENT:FALSE
SUMMARY:December 2024 Biz at Noon
DESCRIPTION:This month's Biz@Noon is at Cool Pickle\n\nJoin the Chamber for a networking lunch to promote your business.\n\n\n\nCome Enjoy a delicious lunch and mix & mingle with members.\n\nMENU CHOICES:\n\n\n\n\n1. BLT on White\n\n2. BLT on Wheat\n\n3. Cobb Salad\n\n4. French Dip
X-ALT-DESC;FMTTYPE=text/html:<p style="margin: 0px 0px 10px\; padding: 0px\; color: rgb(0\, 0\, 0)\; font-family: &quot\;Istok Web&quot\;\, sans-serif\; font-size: 14px\; font-style: normal\; font-variant-ligatures: normal\; font-variant-caps: normal\; font-weight: 400\; letter-spacing: normal\; orphans: 2\; text-align: start\; text-indent: 0px\; text-transform: none\; white-space: normal\; widows: 2\; word-spacing: 0px\; -webkit-text-stroke-width: 0px\; background-color: rgb(255\, 255\, 255)\; text-decoration-style: initial\; text-decoration-color: initial\;">This month&#39\;s Biz@Noon is at Cool Pickle<br />\nJoin the Chamber for a networking&nbsp\;lunch to promote your business.<br />\n<br />\nCome&nbsp\;Enjoy a delicious lunch and mix &amp\; mingle with members.<br />\nMENU CHOICES:</p>\n\n<div style="color: rgb(34\, 34\, 34)\; font-family: Arial\, Helvetica\, sans-serif\; font-size: small\; background-color: rgb(255\, 255\, 255)\;">\n<p dir="ltr" style="line-height:1.2\;margin-left: 0.33600616455078125pt\;margin-top:12.77001953125pt\;margin-bottom:0pt\;"><!-- wp:paragraph --></p>\n\n<div>1. BLT on White<br />\n2. BLT on Wheat<br />\n3. Cobb Salad<br />\n4. French Dip</div>\n\n<div>\n<div style="color: rgb(34\, 34\, 34)\; font-family: Arial\, Helvetica\, sans-serif\; font-size: small\; background-color: rgb(255\, 255\, 255)\;">&nbsp\;</div>\n</div>\n\n<p dir="ltr" style="line-height:1.2\;margin-left: 0.33600616455078125pt\;margin-top:12.77001953125pt\;margin-bottom:0pt\;"><!-- /wp:paragraph --></p>\n</div>\n
LOCATION:Cool Pickle 8501 Placida Road Englewood\, FL 34223
UID:e.3392.1229
SEQUENCE:3
DTSTAMP:20260424T022012Z
URL:http://business.englewoodchamber.com/events/details/december-2024-biz-at-noon-1229
END:VEVENT

END:VCALENDAR
