BEGIN:VCALENDAR
VERSION:2.0
PRODID:-//ChamberMaster//Event Calendar 2.0//EN
METHOD:PUBLISH
X-PUBLISHED-TTL:P3D
REFRESH-INTERVAL:P3D
CALSCALE:GREGORIAN
BEGIN:VEVENT
DTSTART:20221221T170000Z
DTEND:20221221T180000Z
X-MICROSOFT-CDO-ALLDAYEVENT:FALSE
SUMMARY:December Biz at Noon 2022
DESCRIPTION:This month's Biz@Noon is at Nicola's Italian Kitchen \n\nJoin the Chamber for a networking lunch to promote your business.\n\nCome Enjoy a delicious lunch and mix & mingle with members.\n\nMENU CHOICES:\n\n1. Spaghetti with meatball\n\n2. Spaghetti with sausage\n\n3. Eggplant Parmigiana\n\n4. House salad with chicken
X-ALT-DESC;FMTTYPE=text/html:<p style="margin: 0px 0px 10px\; padding: 0px\; color: rgb(0\, 0\, 0)\; font-family: &quot\;Istok Web&quot\;\, sans-serif\; font-size: 14px\; font-style: normal\; font-variant-ligatures: normal\; font-variant-caps: normal\; font-weight: 400\; letter-spacing: normal\; orphans: 2\; text-align: start\; text-indent: 0px\; text-transform: none\; white-space: normal\; widows: 2\; word-spacing: 0px\; -webkit-text-stroke-width: 0px\; background-color: rgb(255\, 255\, 255)\; text-decoration-style: initial\; text-decoration-color: initial\;">This month&#39\;s Biz@Noon is at Nicola&#39\;s Italian Kitchen&nbsp\;<br />\nJoin the Chamber for a networking&nbsp\;lunch to promote your business.<br />\nCome&nbsp\;Enjoy a delicious lunch and mix &amp\; mingle with members.<br />\nMENU CHOICES:<br />\n1. Spaghetti with meatball<br />\n2. Spaghetti with sausage<br />\n3. Eggplant Parmigiana<br />\n4. House salad with chicken&nbsp\;<br />\n<br />\n&nbsp\;</p>\n
LOCATION:Nicola's Italian Kitchen 4343 S. Access Road Englewood\, FL 34224
UID:e.3392.1022
SEQUENCE:3
DTSTAMP:20260426T033044Z
URL:http://business.englewoodchamber.com/events/details/december-biz-at-noon-2022-1022
END:VEVENT

END:VCALENDAR
