BEGIN:VCALENDAR
VERSION:2.0
PRODID:-//ChamberMaster//Event Calendar 2.0//EN
METHOD:PUBLISH
X-PUBLISHED-TTL:P3D
REFRESH-INTERVAL:P3D
CALSCALE:GREGORIAN
BEGIN:VEVENT
DTSTART:20250527T200000Z
DTEND:20250527T230000Z
X-MICROSOFT-CDO-ALLDAYEVENT:FALSE
SUMMARY:Discover Dearborn
DESCRIPTION:Come support Englewood's local vendors and Artists!
X-ALT-DESC;FMTTYPE=text/html:Come support Englewood&#39\;s local vendors and Artists!
LOCATION:Dearborn Street
UID:e.3392.1235
SEQUENCE:3
DTSTAMP:20260424T090544Z
URL:http://business.englewoodchamber.com/events/details/discover-dearborn-1235
END:VEVENT

END:VCALENDAR
