BEGIN:VCALENDAR
VERSION:2.0
PRODID:-//ChamberMaster//Event Calendar 2.0//EN
METHOD:PUBLISH
X-PUBLISHED-TTL:P3D
REFRESH-INTERVAL:P3D
CALSCALE:GREGORIAN
BEGIN:VEVENT
DTSTART:20240727T113000Z
DTEND:20240727T173000Z
X-MICROSOFT-CDO-ALLDAYEVENT:FALSE
SUMMARY:Englewood Chamber 2024 Golf Par-Tee
DESCRIPTION:
X-ALT-DESC;FMTTYPE=text/html:
LOCATION:
UID:e.3392.1211
SEQUENCE:3
DTSTAMP:20260424T113740Z
URL:http://business.englewoodchamber.com/events/details/englewood-chamber-2024-golf-par-tee-1211
END:VEVENT

END:VCALENDAR
