BEGIN:VCALENDAR
VERSION:2.0
PRODID:-//ChamberMaster//Event Calendar 2.0//EN
METHOD:PUBLISH
X-PUBLISHED-TTL:P3D
REFRESH-INTERVAL:P3D
CALSCALE:GREGORIAN
BEGIN:VEVENT
DTSTART:20250130T223000Z
DTEND:20250131T010000Z
X-MICROSOFT-CDO-ALLDAYEVENT:FALSE
SUMMARY:Englewood Chamber Annual Dinner 2025
DESCRIPTION:
X-ALT-DESC;FMTTYPE=text/html:
LOCATION:
UID:e.3392.1242
SEQUENCE:3
DTSTAMP:20260424T002822Z
URL:http://business.englewoodchamber.com/events/details/englewood-chamber-annual-dinner-2025-1242
END:VEVENT

END:VCALENDAR
