BEGIN:VCALENDAR
VERSION:2.0
PRODID:-//ChamberMaster//Event Calendar 2.0//EN
METHOD:PUBLISH
X-PUBLISHED-TTL:P3D
REFRESH-INTERVAL:P3D
CALSCALE:GREGORIAN
BEGIN:VEVENT
DTSTART:20230118T170000Z
DTEND:20230118T180000Z
X-MICROSOFT-CDO-ALLDAYEVENT:FALSE
SUMMARY:January Biz at Noon 2023
DESCRIPTION:This month's Biz@Noon is at Cool Pickle in Paradise.  Their first time hosting the Chamber! \n\nJoin the Chamber for a networking lunch to promote your business.\n\nCome Enjoy a delicious lunch and mix & mingle with members.\n\nMENU CHOICES:\n\n1. Caesar Salad with grilled chicken or shrimp\n\n2. 1/2 lb cheeseburger and fries (choice of cheese) \n\n3. Grilled chicken sandwich with fries\n\n4. BLT with fries
X-ALT-DESC;FMTTYPE=text/html:<p style="margin: 0px 0px 10px\; padding: 0px\; color: rgb(0\, 0\, 0)\; font-family: &quot\;Istok Web&quot\;\, sans-serif\; font-size: 14px\; font-style: normal\; font-variant-ligatures: normal\; font-variant-caps: normal\; font-weight: 400\; letter-spacing: normal\; orphans: 2\; text-align: start\; text-indent: 0px\; text-transform: none\; white-space: normal\; widows: 2\; word-spacing: 0px\; -webkit-text-stroke-width: 0px\; background-color: rgb(255\, 255\, 255)\; text-decoration-style: initial\; text-decoration-color: initial\;">This month&#39\;s Biz@Noon is at Cool Pickle in Paradise.&nbsp\; Their first time hosting the Chamber!&nbsp\;<br />\nJoin the Chamber for a networking&nbsp\;lunch to promote your business.<br />\nCome&nbsp\;Enjoy a delicious lunch and mix &amp\; mingle with members.<br />\nMENU CHOICES:<br />\n1. Caesar Salad with grilled&nbsp\;chicken or shrimp<br />\n2. 1/2 lb cheeseburger and fries (choice of cheese)&nbsp\;<br />\n3. Grilled chicken sandwich with fries<br />\n4. BLT with fries&nbsp\;<br />\n<br />\n<br />\n&nbsp\;</p>\n
LOCATION:Cool Pickle in Paradise 8501 Placida Road Cape Haze/Placida\, FL 33946
UID:e.3392.1025
SEQUENCE:3
DTSTAMP:20260426T014444Z
URL:http://business.englewoodchamber.com/events/details/january-biz-at-noon-2023-1025
END:VEVENT

END:VCALENDAR
