BEGIN:VCALENDAR
VERSION:2.0
PRODID:-//ChamberMaster//Event Calendar 2.0//EN
METHOD:PUBLISH
X-PUBLISHED-TTL:P3D
REFRESH-INTERVAL:P3D
CALSCALE:GREGORIAN
BEGIN:VEVENT
DTSTART:20240717T160000Z
DTEND:20240717T170000Z
X-MICROSOFT-CDO-ALLDAYEVENT:FALSE
SUMMARY:July 2024 Biz at Noon
DESCRIPTION:This month's Biz@Noon is at Ken & Barbs Grove City Kitchen\n\nJoin the Chamber for a networking lunch to promote your business.\n\nAlso...we will honor our Chamber volunteers at lunch in observance of Volunteer Appreciation month!\n\nCome Enjoy a delicious lunch and mix & mingle with members.\n\nMENU CHOICES:\n\n\nTURKEY CLUB   + 1 side\n\nCuban Sandwich +1 side\n\nFish Sandwich- Fried or Grilled +1 side\n\nROASTED VEGGIE AND FRESH MOZZ SALAD  (Can be made Vegan)
X-ALT-DESC;FMTTYPE=text/html:<p style="margin: 0px 0px 10px\; padding: 0px\; color: rgb(0\, 0\, 0)\; font-family: &quot\;Istok Web&quot\;\, sans-serif\; font-size: 14px\; font-style: normal\; font-variant-ligatures: normal\; font-variant-caps: normal\; font-weight: 400\; letter-spacing: normal\; orphans: 2\; text-align: start\; text-indent: 0px\; text-transform: none\; white-space: normal\; widows: 2\; word-spacing: 0px\; -webkit-text-stroke-width: 0px\; background-color: rgb(255\, 255\, 255)\; text-decoration-style: initial\; text-decoration-color: initial\;">This month&#39\;s Biz@Noon is at Ken &amp\; Barbs Grove&nbsp\;City Kitchen<br />\nJoin the Chamber for a networking&nbsp\;lunch to promote your business.<br />\nAlso...we will honor our Chamber volunteers at lunch in observance of Volunteer Appreciation month!<br />\nCome&nbsp\;Enjoy a delicious lunch and mix &amp\; mingle with members.<br />\nMENU CHOICES:</p>\n\n<div style="color: rgb(34\, 34\, 34)\; background-color: rgb(255\, 255\, 255)\;">\n<p dir="ltr" style="font-family: Arial\, Helvetica\, sans-serif\; font-size: small\; line-height: 1.2\; margin-left: 0.336006pt\; margin-top: 12.77pt\; margin-bottom: 0pt\;"><span id="docs-internal-guid-e7842bb6-7fff-5ea1-1fd8-420def6a4f24"><span style="font-size: 12pt\; font-family: Arial\; font-weight: 700\; font-variant-numeric: normal\; font-variant-east-asian: normal\; vertical-align: baseline\; white-space: pre-wrap\;">TURKEY CLUB&nbsp\;&nbsp\;</span></span><span id="docs-internal-guid-e7842bb6-7fff-5ea1-1fd8-420def6a4f24"><span style="font-size: 12pt\; font-family: Arial\; font-variant-numeric: normal\; font-variant-east-asian: normal\; vertical-align: baseline\; white-space: pre-wrap\;">&nbsp\;+ 1 side</span></span></p>\n\n<p dir="ltr" style="line-height: 1.2\; margin-left: 0.336006pt\; margin-top: 13.998pt\; margin-bottom: 0pt\;"><font face="Arial"><span style="font-size: 16px\; white-space-collapse: preserve\;"><b>Cuban Sandwich +1 side</b></span></font></p>\n\n<p dir="ltr" style="font-family: Arial\, Helvetica\, sans-serif\; font-size: small\; line-height: 1.2\; margin-left: 0.336006pt\; margin-top: 13.998pt\; margin-bottom: 0pt\;"><span id="docs-internal-guid-e7842bb6-7fff-5ea1-1fd8-420def6a4f24"><span style="font-size: 12pt\; font-family: Arial\; font-weight: 700\; font-variant-numeric: normal\; font-variant-east-asian: normal\; vertical-align: baseline\; white-space: pre-wrap\;">Fish Sandwich-&nbsp\;Fried or Grilled +1 side</span></span></p>\n\n<p dir="ltr" style="font-family: Arial\, Helvetica\, sans-serif\; font-size: small\; line-height: 1.2\; margin-left: 0.336006pt\; margin-top: 13.998pt\; margin-bottom: 0pt\;"><span id="docs-internal-guid-e7842bb6-7fff-5ea1-1fd8-420def6a4f24"><span style="font-size: 12pt\; font-family: Arial\; font-weight: 700\; font-variant-numeric: normal\; font-variant-east-asian: normal\; vertical-align: baseline\; white-space: pre-wrap\;">ROASTED VEGGIE AND FRESH MOZZ SALAD&nbsp\;&nbsp\;(Can be made Vegan)</span></span></p>\n\n<p dir="ltr" style="font-family: Arial\, Helvetica\, sans-serif\; font-size: small\; line-height: 1.2\; margin: 0.332001pt 10.3561pt 0pt 0.348pt\; text-indent: -0.228004pt\; padding: 0pt 0pt 0pt 0.228004pt\;">&nbsp\;</p>\n</div>\n
LOCATION:Ken & Barb's 2000 Oyster Creek Drive Englewood\, FL 34224
UID:e.3392.1215
SEQUENCE:3
DTSTAMP:20260424T113601Z
URL:http://business.englewoodchamber.com/events/details/july-2024-biz-at-noon-1215
END:VEVENT

END:VCALENDAR
