BEGIN:VCALENDAR
VERSION:2.0
PRODID:-//ChamberMaster//Event Calendar 2.0//EN
METHOD:PUBLISH
X-PUBLISHED-TTL:P3D
REFRESH-INTERVAL:P3D
CALSCALE:GREGORIAN
BEGIN:VEVENT
DTSTART:20250528T213000Z
DTEND:20250527T230000Z
X-MICROSOFT-CDO-ALLDAYEVENT:FALSE
SUMMARY:Leadership Graduation 2025
DESCRIPTION:
X-ALT-DESC;FMTTYPE=text/html:
LOCATION:
UID:e.3392.8197
SEQUENCE:3
DTSTAMP:20260424T035422Z
URL:http://business.englewoodchamber.com/events/details/leadership-graduation-2025-8197
END:VEVENT

END:VCALENDAR
