BEGIN:VCALENDAR
VERSION:2.0
PRODID:-//ChamberMaster//Event Calendar 2.0//EN
METHOD:PUBLISH
X-PUBLISHED-TTL:P3D
REFRESH-INTERVAL:P3D
CALSCALE:GREGORIAN
BEGIN:VEVENT
DTSTART:20240320T160000Z
DTEND:20240320T170000Z
X-MICROSOFT-CDO-ALLDAYEVENT:FALSE
SUMMARY:March Biz at Noon 2024
DESCRIPTION:This month's Biz@Noon is at The End Zone.\n\n\n\nJoin the Chamber for a networking lunch to promote your business.\n\nCome Enjoy a delicious lunch and mix & mingle with members.
X-ALT-DESC;FMTTYPE=text/html:<p style="margin: 0px 0px 10px\; padding: 0px\; color: rgb(0\, 0\, 0)\; font-family: &quot\;Istok Web&quot\;\, sans-serif\; font-size: 14px\; font-style: normal\; font-variant-ligatures: normal\; font-variant-caps: normal\; font-weight: 400\; letter-spacing: normal\; orphans: 2\; text-align: start\; text-indent: 0px\; text-transform: none\; white-space: normal\; widows: 2\; word-spacing: 0px\; -webkit-text-stroke-width: 0px\; background-color: rgb(255\, 255\, 255)\; text-decoration-style: initial\; text-decoration-color: initial\;">This month&#39\;s Biz@Noon is at The End Zone.<br />\n<br />\nJoin the Chamber for a networking&nbsp\;lunch to promote your business.<br />\nCome&nbsp\;Enjoy a delicious lunch and mix &amp\; mingle with members.<br />\n&nbsp\;</p>\n
LOCATION:2440 S. McCall Road Englewood\, FL 34223
UID:e.3392.1073
SEQUENCE:3
DTSTAMP:20260424T225200Z
URL:http://business.englewoodchamber.com/events/details/march-biz-at-noon-2024-1073
END:VEVENT

END:VCALENDAR
