BEGIN:VCALENDAR
VERSION:2.0
PRODID:-//ChamberMaster//Event Calendar 2.0//EN
METHOD:PUBLISH
X-PUBLISHED-TTL:P3D
REFRESH-INTERVAL:P3D
CALSCALE:GREGORIAN
BEGIN:VEVENT
DTSTART:20230517T160000Z
DTEND:20230517T170000Z
X-MICROSOFT-CDO-ALLDAYEVENT:FALSE
SUMMARY:May 2023 Biz at Noon
DESCRIPTION:This month's Biz@Noon is at The Chamber \n\nJoin the Chamber for a networking lunch to promote your business.\n\nTo celebrate National Pizza Party Day\, Dickie's Pizza will be in the house serving hot\, fresh pies!
X-ALT-DESC;FMTTYPE=text/html:<p style="margin: 0px 0px 10px\; padding: 0px\; color: rgb(0\, 0\, 0)\; font-family: &quot\;Istok Web&quot\;\, sans-serif\; font-size: 14px\; font-style: normal\; font-variant-ligatures: normal\; font-variant-caps: normal\; font-weight: 400\; letter-spacing: normal\; orphans: 2\; text-align: start\; text-indent: 0px\; text-transform: none\; white-space: normal\; widows: 2\; word-spacing: 0px\; -webkit-text-stroke-width: 0px\; background-color: rgb(255\, 255\, 255)\; text-decoration-style: initial\; text-decoration-color: initial\;">This month&#39\;s Biz@Noon is at The Chamber&nbsp\;<br />\nJoin the Chamber for a networking&nbsp\;lunch to promote your business.<br />\nTo celebrate National Pizza Party Day\, Dickie&#39\;s Pizza will be in the house serving hot\, fresh pies!<br style="color: rgb(34\, 34\, 34)\; font-family: Verdana\, Geneva\, sans-serif\; font-size: 13.3333px\; background-color: rgb(255\, 255\, 255)\;" />\n<br style="color: rgb(34\, 34\, 34)\; font-family: Verdana\, Geneva\, sans-serif\; font-size: 13.3333px\; background-color: rgb(255\, 255\, 255)\;" />\n&nbsp\;</p>\n\n<div style="color: rgb(34\, 34\, 34)\; font-family: Arial\, Helvetica\, sans-serif\; font-size: small\; background-color: rgb(255\, 255\, 255)\;">\n<p dir="ltr" style="line-height:1.2\;margin-left: 0.33600616455078125pt\;margin-top:12.77001953125pt\;margin-bottom:0pt\;"><!-- /wp:paragraph --></p>\n</div>\n
LOCATION:Chamber Community Room 601 S. Indiana Avenue Englewood\, FL 34223
UID:e.3392.1036
SEQUENCE:3
DTSTAMP:20260425T190636Z
URL:http://business.englewoodchamber.com/events/details/may-2023-biz-at-noon-1036
END:VEVENT

END:VCALENDAR
