BEGIN:VCALENDAR
VERSION:2.0
PRODID:-//ChamberMaster//Event Calendar 2.0//EN
METHOD:PUBLISH
X-PUBLISHED-TTL:P3D
REFRESH-INTERVAL:P3D
CALSCALE:GREGORIAN
BEGIN:VEVENT
DTSTART:20250220T133000Z
DTEND:20250220T143000Z
X-MICROSOFT-CDO-ALLDAYEVENT:FALSE
SUMMARY:New Member Orientation Feb. 2025
DESCRIPTION:
X-ALT-DESC;FMTTYPE=text/html:
LOCATION:
UID:e.3392.1244
SEQUENCE:3
DTSTAMP:20260423T222032Z
URL:http://business.englewoodchamber.com/events/details/new-member-orientation-feb-2025-1244
END:VEVENT

END:VCALENDAR
