BEGIN:VCALENDAR
VERSION:2.0
PRODID:-//ChamberMaster//Event Calendar 2.0//EN
METHOD:PUBLISH
X-PUBLISHED-TTL:P3D
REFRESH-INTERVAL:P3D
CALSCALE:GREGORIAN
BEGIN:VEVENT
DTSTART:20250625T123000Z
DTEND:20250625T133000Z
X-MICROSOFT-CDO-ALLDAYEVENT:FALSE
SUMMARY:New Member Orientation June 2025
DESCRIPTION:
X-ALT-DESC;FMTTYPE=text/html:
LOCATION:
UID:e.3392.8203
SEQUENCE:3
DTSTAMP:20260424T073108Z
URL:http://business.englewoodchamber.com/events/details/new-member-orientation-june-2025-8203
END:VEVENT

END:VCALENDAR
