BEGIN:VCALENDAR
VERSION:2.0
PRODID:-//ChamberMaster//Event Calendar 2.0//EN
METHOD:PUBLISH
X-PUBLISHED-TTL:P3D
REFRESH-INTERVAL:P3D
CALSCALE:GREGORIAN
BEGIN:VEVENT
DTSTART:20230302T133000Z
DTEND:20230302T143000Z
X-MICROSOFT-CDO-ALLDAYEVENT:FALSE
SUMMARY:New Member Orientation March 2023
DESCRIPTION:Come meet & greet other members that are new to the Chamber.  Learn what all resources are available to you!  Enjoy some coffee and a hot breakfast and meet other newbies!\n\nBe sure to bring business cards!
X-ALT-DESC;FMTTYPE=text/html:Come meet &amp\; greet other members that are new to the Chamber.&nbsp\; Learn what all resources are available to you!&nbsp\; Enjoy some coffee and a hot breakfast and meet other newbies!<br />\nBe sure to bring business cards!
LOCATION:Orientation will be held in the Chamber Community Room at 601 S. Indiana Ave Thank you to Xavier Financial and Mortgage Group for the support!
UID:e.3392.1031
SEQUENCE:3
DTSTAMP:20260425T232815Z
URL:http://business.englewoodchamber.com/events/details/new-member-orientation-march-2023-1031
END:VEVENT

END:VCALENDAR
