BEGIN:VCALENDAR
VERSION:2.0
PRODID:-//ChamberMaster//Event Calendar 2.0//EN
METHOD:PUBLISH
X-PUBLISHED-TTL:P3D
REFRESH-INTERVAL:P3D
CALSCALE:GREGORIAN
BEGIN:VEVENT
DTSTART:20241016T160000Z
DTEND:20241016T170000Z
X-MICROSOFT-CDO-ALLDAYEVENT:FALSE
SUMMARY:October Biz@Noon 2024
DESCRIPTION:This month's Biz@Noon is at Farlow's \n\nJoin the Chamber for a networking lunch to promote your business.\n\nCome Enjoy a delicious lunch and mix & mingle with members.\n\nMENU CHOICES:\n\nKey West Shrimp Salad\n\nTriggerfish BLT\n\nNashville Chicken Sandwich
X-ALT-DESC;FMTTYPE=text/html:<p style="margin: 0px 0px 10px\; padding: 0px\; color: rgb(0\, 0\, 0)\; font-family: &quot\;Istok Web&quot\;\, sans-serif\; font-size: 14px\; font-style: normal\; font-variant-ligatures: normal\; font-variant-caps: normal\; font-weight: 400\; letter-spacing: normal\; orphans: 2\; text-align: start\; text-indent: 0px\; text-transform: none\; white-space: normal\; widows: 2\; word-spacing: 0px\; -webkit-text-stroke-width: 0px\; background-color: rgb(255\, 255\, 255)\; text-decoration-style: initial\; text-decoration-color: initial\;">This month&#39\;s Biz@Noon is at Farlow&#39\;s&nbsp\;<br />\nJoin the Chamber for a networking&nbsp\;lunch to promote your business.<br />\nCome&nbsp\;Enjoy a delicious lunch and mix &amp\; mingle with members.<br />\nMENU CHOICES:</p>\n\n<div style="color: rgb(34\, 34\, 34)\; font-family: Arial\, Helvetica\, sans-serif\; font-size: small\; background-color: rgb(255\, 255\, 255)\;"><b><i>Key West Shrimp Salad<br />\nTriggerfish BLT<br />\nNashville Chicken Sandwich</i></b></div>\n
LOCATION:Farlow's on the Water 25080 S. McCall Road Englewood\, FL
UID:e.3392.1221
SEQUENCE:3
DTSTAMP:20260424T071228Z
URL:http://business.englewoodchamber.com/events/details/october-biz-noon-2024-1221
END:VEVENT

END:VCALENDAR
