BEGIN:VCALENDAR
VERSION:2.0
PRODID:-//ChamberMaster//Event Calendar 2.0//EN
METHOD:PUBLISH
X-PUBLISHED-TTL:P3D
REFRESH-INTERVAL:P3D
CALSCALE:GREGORIAN
BEGIN:VEVENT
DTSTART:20230330T130000Z
DTEND:20230330T140000Z
X-MICROSOFT-CDO-ALLDAYEVENT:FALSE
SUMMARY:On The Table - Community Forum
DESCRIPTION:
X-ALT-DESC;FMTTYPE=text/html:
LOCATION:
UID:e.3392.1034
SEQUENCE:3
DTSTAMP:20260425T214400Z
URL:http://business.englewoodchamber.com/events/details/on-the-table-community-forum-1034
END:VEVENT

END:VCALENDAR
