BEGIN:VCALENDAR
VERSION:2.0
PRODID:-//ChamberMaster//Event Calendar 2.0//EN
METHOD:PUBLISH
X-PUBLISHED-TTL:P3D
REFRESH-INTERVAL:P3D
CALSCALE:GREGORIAN
BEGIN:VEVENT
DTSTART:20230526T160000Z
DTEND:20230526T170000Z
X-MICROSOFT-CDO-ALLDAYEVENT:FALSE
SUMMARY:Smoked Mullet 2023
DESCRIPTION:
X-ALT-DESC;FMTTYPE=text/html:
LOCATION:
UID:e.3392.1037
SEQUENCE:3
DTSTAMP:20260425T181452Z
URL:http://business.englewoodchamber.com/events/details/smoked-mullet-2023-1037
END:VEVENT

END:VCALENDAR
