BEGIN:VCALENDAR
VERSION:2.0
PRODID:-//ChamberMaster//Event Calendar 2.0//EN
METHOD:PUBLISH
X-PUBLISHED-TTL:P3D
REFRESH-INTERVAL:P3D
CALSCALE:GREGORIAN
BEGIN:VEVENT
DTSTART:20240822T203000Z
DTEND:20240822T220000Z
X-MICROSOFT-CDO-ALLDAYEVENT:FALSE
SUMMARY:Tri-Chamber Expo Table
DESCRIPTION:
X-ALT-DESC;FMTTYPE=text/html:
LOCATION:
UID:e.3392.1214
SEQUENCE:3
DTSTAMP:20260424T090656Z
URL:http://business.englewoodchamber.com/events/details/tri-chamber-expo-table-1214
END:VEVENT

END:VCALENDAR
