BEGIN:VCALENDAR
VERSION:2.0
PRODID:-//ChamberMaster//Event Calendar 2.0//EN
METHOD:PUBLISH
X-PUBLISHED-TTL:P3D
REFRESH-INTERVAL:P3D
CALSCALE:GREGORIAN
BEGIN:VEVENT
DTSTART:20240421T000000Z
DTEND:20240421T020000Z
X-MICROSOFT-CDO-ALLDAYEVENT:FALSE
SUMMARY:Turtle Trot
DESCRIPTION:Description\n\n\n\nWe hope you will join us Saturday April 20th 2024 for a fantastic new 5K and 1 Mile race that will happen on the beautiful sandy beaches of Englewood Beach. This race will be a beach run on the sand and you will run north from Chadwick Park at Englewood Beach 1.55 miles down the beach and return to the start line. For this race all participants will receive a beautiful sea turtle beach towel and commemorative turtle finishers medal. You don't want to miss the opportunity to get out early as the sun rises and participate in a beautiful beach run or walk. \n\n \n\nCourse: \n\n5K Course: Coming Soon\n\n1 Mile Course: Coming Soon \n\n \n\nRace Start Times:\n\n5K - 8:00am\n\n1 Mile   8:10am\n\n \n\n5K Awards:\n\nOverall Male and Female 1st\, 2nd\, 3rd\n\nAge Groups:\n\n(Age group awards are based on net chip time. 1st\, 2nd\, 3rd place Male and Female will be awarded)\n\n0 to 10 | 11 to 19 | 20 to 29 | 30 to 39 | 40 to 49 | 50 to 59 | 60 to 69 | 70 plus\n\n \n\nParking:\n\nParking will be at Chadwick Park at Englewood. 2100 N Beach Road\, Englewood\, FL 34223\n\n \n\nPacket Pick-Up/Late Registrations:\n\nFriday\, April 19th\, 2024\n\nSaturday\, April 20th 2024
X-ALT-DESC;FMTTYPE=text/html:<h2 style="box-sizing: inherit\; font-family: Roboto\, &quot\;Helvetica Neue&quot\;\, Helvetica\, sans-serif\; font-size: 2.1rem\; line-height: 1.1em\; margin: 10px 0px\; color: rgb(204\, 24\, 20)\; background-color: rgb(180\, 251\, 142)\;">Description</h2>\n\n<div class="margin-b-25" style="box-sizing: inherit\; color: rgb(73\, 0\, 122)\; font-family: Roboto\, &quot\;Helvetica Neue&quot\;\, Helvetica\, sans-serif\; font-size: 14px\; background-color: rgb(180\, 251\, 142)\; margin-bottom: 25px !important\;">\n<div id="raceFullDesc" style="box-sizing: inherit\;">\n<p style="box-sizing: inherit\; font-size: 1.1rem\; padding: 0px\; margin: 0px 0px 10px\; line-height: 1.6rem\;">We hope you will join us Saturday April 20th 2024 for a fantastic new 5K and 1 Mile race that will happen on the beautiful sandy beaches of Englewood Beach. This race will be a beach run on the sand and you will run north from Chadwick Park at Englewood Beach 1.55 miles down the beach and return to the start line. For this race all participants will receive a beautiful sea turtle beach towel and commemorative turtle finishers medal. You don&#39\;t want to miss the opportunity to get out early as the sun rises and participate in a beautiful beach run or walk.&nbsp\;</p>\n\n<p style="box-sizing: inherit\; font-size: 1.1rem\; padding: 0px\; margin: 0px 0px 10px\; line-height: 1.6rem\;">&nbsp\;</p>\n\n<p style="box-sizing: inherit\; font-size: 1.1rem\; padding: 0px\; margin: 0px 0px 10px\; line-height: 1.6rem\;"><b style="box-sizing: inherit\;">Course:&nbsp\;</b></p>\n\n<p style="box-sizing: inherit\; font-size: 1.1rem\; padding: 0px\; margin: 0px 0px 10px\; line-height: 1.6rem\;">5K Course: Coming Soon</p>\n\n<p style="box-sizing: inherit\; font-size: 1.1rem\; padding: 0px\; margin: 0px 0px 10px\; line-height: 1.6rem\;">1 Mile Course: Coming Soon&nbsp\;</p>\n\n<p style="box-sizing: inherit\; font-size: 1.1rem\; padding: 0px\; margin: 0px 0px 10px\; line-height: 1.6rem\;">&nbsp\;</p>\n\n<p style="box-sizing: inherit\; font-size: 1.1rem\; padding: 0px\; margin: 0px 0px 10px\; line-height: 1.6rem\;"><b style="box-sizing: inherit\;">Race Start Times:</b></p>\n\n<p style="box-sizing: inherit\; font-size: 1.1rem\; padding: 0px\; margin: 0px 0px 10px\; line-height: 1.6rem\;">5K - 8:00am</p>\n\n<p style="box-sizing: inherit\; font-size: 1.1rem\; padding: 0px\; margin: 0px 0px 10px\; line-height: 1.6rem\;">1 Mile &ndash\; 8:10am</p>\n\n<p style="box-sizing: inherit\; font-size: 1.1rem\; padding: 0px\; margin: 0px 0px 10px\; line-height: 1.6rem\;">&nbsp\;</p>\n\n<p style="box-sizing: inherit\; font-size: 1.1rem\; padding: 0px\; margin: 0px 0px 10px\; line-height: 1.6rem\;"><b style="box-sizing: inherit\;">5K Awards:</b></p>\n\n<p style="box-sizing: inherit\; font-size: 1.1rem\; padding: 0px\; margin: 0px 0px 10px\; line-height: 1.6rem\;">Overall Male and Female 1st\, 2nd\, 3rd</p>\n\n<p style="box-sizing: inherit\; font-size: 1.1rem\; padding: 0px\; margin: 0px 0px 10px\; line-height: 1.6rem\;"><b style="box-sizing: inherit\;">Age Groups:</b></p>\n\n<p style="box-sizing: inherit\; font-size: 1.1rem\; padding: 0px\; margin: 0px 0px 10px\; line-height: 1.6rem\;">(Age group awards are based on net chip time. 1st\, 2nd\, 3rd place Male and Female will be awarded)</p>\n\n<p style="box-sizing: inherit\; font-size: 1.1rem\; padding: 0px\; margin: 0px 0px 10px\; line-height: 1.6rem\;">0 to 10 | 11 to 19 | 20 to 29 | 30 to 39 | 40 to 49 | 50 to 59 | 60 to 69 | 70 plus</p>\n\n<p style="box-sizing: inherit\; font-size: 1.1rem\; padding: 0px\; margin: 0px 0px 10px\; line-height: 1.6rem\;">&nbsp\;</p>\n\n<p style="box-sizing: inherit\; font-size: 1.1rem\; padding: 0px\; margin: 0px 0px 10px\; line-height: 1.6rem\;"><b style="box-sizing: inherit\;">Parking:</b></p>\n\n<p style="box-sizing: inherit\; font-size: 1.1rem\; padding: 0px\; margin: 0px 0px 10px\; line-height: 1.6rem\;">Parking will be at Chadwick Park at Englewood. 2100 N Beach Road\, Englewood\, FL 34223</p>\n\n<p style="box-sizing: inherit\; font-size: 1.1rem\; padding: 0px\; margin: 0px 0px 10px\; line-height: 1.6rem\;">&nbsp\;</p>\n\n<p style="box-sizing: inherit\; font-size: 1.1rem\; padding: 0px\; margin: 0px 0px 10px\; line-height: 1.6rem\;"><b style="box-sizing: inherit\;">Packet Pick-Up/Late Registrations:</b></p>\n\n<p style="box-sizing: inherit\; font-size: 1.1rem\; padding: 0px\; margin: 0px 0px 10px\; line-height: 1.6rem\;">Friday\, April 19th\, 2024</p>\n\n<p style="box-sizing: inherit\; font-size: 1.1rem\; padding: 0px\; margin: 0px 0px 10px\; line-height: 1.6rem\;">Saturday\, April 20th 2024&nbsp\;</p>\n</div>\n</div>\n
LOCATION:Chadwick Park at Englewood Beach 2100 N Beach Road Englewood\, FL US 34223
UID:e.3392.1074
SEQUENCE:3
DTSTAMP:20260424T212834Z
URL:http://business.englewoodchamber.com/events/details/turtle-trot-1074
END:VEVENT

END:VCALENDAR
