BEGIN:VCALENDAR
VERSION:2.0
PRODID:-//ChamberMaster//Event Calendar 2.0//EN
METHOD:PUBLISH
X-PUBLISHED-TTL:P3D
REFRESH-INTERVAL:P3D
CALSCALE:GREGORIAN
BEGIN:VEVENT
DTSTART:20260318T160000Z
DTEND:20260318T170000Z
X-MICROSOFT-CDO-ALLDAYEVENT:FALSE
SUMMARY:Biz at Noon March 2026
DESCRIPTION:This month's Biz@Noon is at the Rabbit Hole at Lipinski's Tavern\n\nJoin the Chamber for a networking lunch to promote your business.\n\n\n\nCome Enjoy a delicious lunch and mix & mingle with members.
X-ALT-DESC;FMTTYPE=text/html:<p style="margin: 0px 0px 10px\; padding: 0px\; color: rgb(0\, 0\, 0)\; font-family: &quot\;Istok Web&quot\;\, sans-serif\; font-size: 14px\; font-style: normal\; font-variant-ligatures: normal\; font-variant-caps: normal\; font-weight: 400\; letter-spacing: normal\; orphans: 2\; text-align: start\; text-indent: 0px\; text-transform: none\; white-space: normal\; widows: 2\; word-spacing: 0px\; -webkit-text-stroke-width: 0px\; background-color: rgb(255\, 255\, 255)\; text-decoration-style: initial\; text-decoration-color: initial\;">This month&#39\;s Biz@Noon is at the Rabbit Hole at Lipinski&#39\;s Tavern<br />\nJoin the Chamber for a networking&nbsp\;lunch to promote your business.<br />\n<br />\nCome&nbsp\;Enjoy a delicious lunch and mix &amp\; mingle with members.<br />\n<br />\n&nbsp\;</p>\n\n<div style="color: rgb(34\, 34\, 34)\; font-family: Arial\, Helvetica\, sans-serif\; font-size: small\; background-color: rgb(255\, 255\, 255)\;">\n<p dir="ltr" style="line-height:1.2\;margin-left: 0.33600616455078125pt\;margin-top:12.77001953125pt\;margin-bottom:0pt\;"><!-- wp:paragraph --></p>\n\n<p dir="ltr" style="line-height:1.2\;margin-left: 0.33600616455078125pt\;margin-top:12.77001953125pt\;margin-bottom:0pt\;"><!-- /wp:paragraph --></p>\n</div>\n
LOCATION:Lipinski's Tavern 3475 Cape Haze Drive Rotonda\, FL
UID:e.3392.8239
SEQUENCE:3
DTSTAMP:20260421T084721Z
URL:https://business.englewoodchamber.com/events/details/biz-at-noon-march-2026-8239
END:VEVENT

END:VCALENDAR
