BEGIN:VCALENDAR
VERSION:2.0
PRODID:-//ChamberMaster//Event Calendar 2.0//EN
METHOD:PUBLISH
X-PUBLISHED-TTL:P3D
REFRESH-INTERVAL:P3D
CALSCALE:GREGORIAN
BEGIN:VEVENT
DTSTART:20251119T170000Z
DTEND:20251119T180000Z
X-MICROSOFT-CDO-ALLDAYEVENT:FALSE
SUMMARY:Biz at Noon November 2025
DESCRIPTION:Join the Chamber for a networking lunch to promote your business. Enjoy a delicious lunch.\n\nMENU CHOICES\n\nTaco Salad (Chicken or Beef)\n\nWet Burrito (Chicken or Ground Beef)\n\nChimichanga (Chicken or Beef)\n\nQuesadilla (Chicken or Ground Beef)
X-ALT-DESC;FMTTYPE=text/html:<p style="margin: 0px 0px 10px\; padding: 0px\; color: rgb(0\, 0\, 0)\; font-family: &quot\;Istok Web&quot\;\, sans-serif\; font-size: 14px\; font-style: normal\; font-variant-ligatures: normal\; font-variant-caps: normal\; font-weight: 400\; letter-spacing: normal\; orphans: 2\; text-align: start\; text-indent: 0px\; text-transform: none\; white-space: normal\; widows: 2\; word-spacing: 0px\; -webkit-text-stroke-width: 0px\; background-color: rgb(255\, 255\, 255)\; text-decoration-style: initial\; text-decoration-color: initial\;">Join the Chamber for a networking&nbsp\;lunch to promote your business. Enjoy a delicious lunch.<br />\nMENU CHOICES<br />\nTaco Salad (Chicken or Beef)<br />\nWet Burrito (Chicken or Ground Beef)<br />\nChimichanga (Chicken or Beef)<br />\nQuesadilla (Chicken or Ground Beef)&nbsp\;<br />\n&nbsp\;</p>\n
LOCATION:Paraiso Mexican Grille & Bar 2638 Placida Rd Englewood\, FL 34224
UID:e.3392.8231
SEQUENCE:3
DTSTAMP:20260424T075237Z
URL:https://business.englewoodchamber.com/events/details/biz-at-noon-november-2025-8231
END:VEVENT

END:VCALENDAR
