BEGIN:VCALENDAR
VERSION:2.0
PRODID:-//ChamberMaster//Event Calendar 2.0//EN
METHOD:PUBLISH
X-PUBLISHED-TTL:P3D
REFRESH-INTERVAL:P3D
CALSCALE:GREGORIAN
BEGIN:VEVENT
DTSTART:20250917T160000Z
DTEND:20250917T170000Z
X-MICROSOFT-CDO-ALLDAYEVENT:FALSE
SUMMARY:Biz at Noon-Presidents Luncheon Sept. 2025
DESCRIPTION:This month's Biz@Noon is at The Hills\n\nJoin the Chamber for a networking lunch to promote your business.\n\nthis is also a time to honor our Past Presidents and current Chamber President\, Jessica Souza will meet with them prior to lunch to give a state of the Chamber report. \n\n\n\n**Please note-only past Presidents attend the 11am meeting\, otherwise check in begins at 11:45 for our regular networking lunch that begins at noon.
X-ALT-DESC;FMTTYPE=text/html:<p style="margin: 0px 0px 10px\; padding: 0px\; color: rgb(0\, 0\, 0)\; font-family: &quot\;Istok Web&quot\;\, sans-serif\; font-size: 14px\; font-style: normal\; font-variant-ligatures: normal\; font-variant-caps: normal\; font-weight: 400\; letter-spacing: normal\; orphans: 2\; text-align: start\; text-indent: 0px\; text-transform: none\; white-space: normal\; widows: 2\; word-spacing: 0px\; -webkit-text-stroke-width: 0px\; background-color: rgb(255\, 255\, 255)\; text-decoration-style: initial\; text-decoration-color: initial\;">This month&#39\;s Biz@Noon is at The Hills<br />\nJoin the Chamber for a networking&nbsp\;lunch to promote your business.<br />\nthis is also a time to honor our Past Presidents and current Chamber President\, Jessica Souza&nbsp\;will&nbsp\;meet with them prior to lunch to give a state of the Chamber report.&nbsp\;<br />\n<br />\n<strong>**Please note-only past Presidents attend the 11am meeting\, otherwise check in begins at 11:45 for our regular networking lunch that begins at noon.&nbsp\;</strong></p>\n\n<div style="color: rgb(34\, 34\, 34)\; font-family: Arial\, Helvetica\, sans-serif\; font-size: small\; background-color: rgb(255\, 255\, 255)\;">\n<p dir="ltr" style="line-height:1.2\;margin-left: 0.33600616455078125pt\;margin-top:12.77001953125pt\;margin-bottom:0pt\;"><!-- /wp:paragraph --></p>\n</div>\n
LOCATION:The Hills-Rotonda West Golf & Country Club 100 Rotonda Circle Englewood\, FL 34223
UID:e.3392.8225
SEQUENCE:3
DTSTAMP:20260424T105339Z
URL:https://business.englewoodchamber.com/events/details/biz-at-noon-presidents-luncheon-sept-2025-8225
END:VEVENT

END:VCALENDAR
